BEGIN:VCALENDAR
VERSION:2.0
PRODID:-//Library Market//iCal Export//EN
BEGIN:VEVENT
SUMMARY:Rescuing old laptops with Linux
UID:47959
DTSTAMP:20260424T164100Z
DTSTART:20260430T211500Z
DTEND:20260430T230000Z
LOCATION:Athens Public Library, 30 Home St., Athens, OH 45701, United Stat
 es
ROOM: Small meeting room (Athens)
DESCRIPTION:Have you been wanting to replace Windows and its spyware but n
 ot sure where to start? Have an old mac that can&#039;t handle MacOS anymo
 re? This is a open-to-anyone event and all-experience-levels where you can
  bring your laptop and I will show you how to put Linux on it! Bring any l
 aptop, or no laptop and just observe. \r\nYou can show up whenever you wan
 t, and I will bring USB sticks that already have the major linux distros -
  Linux Mint, ZorinOS, Fedora, and Manjaro so we don&#039;t have to wait fo
 r them to download.
URL:https://events.myacpl.org/event/rescuing-old-laptops-linux-47959
END:VEVENT
END:VCALENDAR
