BEGIN:VCALENDAR
VERSION:2.0
PRODID:-//Library Market//iCal Export//EN
BEGIN:VEVENT
SUMMARY:Sprouting Melodies; Rescheduled from  April 8th cancellation
UID:47955
DTSTAMP:20260423T203700Z
DTSTART:20260429T150000Z
DTEND:20260429T153000Z
LOCATION:The Plains Public Library, 14 S. Plains Road, The Plains, OH 4578
 0, United States
ROOM: Kids&#039; zone (The Plains)
DESCRIPTION:Sprouting Melodies is an early childhood music program for chi
 ldren age 5 and under. Bring your little ones for a fun and special family
  music time! This program takes the place of usual Storytime at The Plains
  Library.
URL:https://events.myacpl.org/event/sprouting-melodies-rescheduled-cancell
 ed-april-8th-cancellation-47955
END:VEVENT
END:VCALENDAR
