BEGIN:VCALENDAR
VERSION:2.0
PRODID:-//Library Market//iCal Export//EN
BEGIN:VEVENT
SUMMARY:CWRT Memorial Day Dedication -Fort Street
UID:47949
DTSTAMP:20260423T105400Z
DTSTART:20260523T133000Z
DTEND:20260523T163000Z
LOCATION:Nelsonville Public Library, 95 W. Washington St., Nelsonville, OH
  45764, United States
ROOM: Large meeting room (Nelsonville)
DESCRIPTION:
URL:https://events.myacpl.org/event/cwrt-memorial-day-dedication-fort-stre
 et-47949
END:VEVENT
END:VCALENDAR
