BEGIN:VCALENDAR
VERSION:2.0
PRODID:-//Library Market//iCal Export//EN
BEGIN:VEVENT
SUMMARY:Special Board Meeting
UID:47943
DTSTAMP:20260423T112300Z
DTSTART:20260507T180000Z
DTEND:20260507T190000Z
LOCATION:Nelsonville Public Library, 95 W. Washington St., Nelsonville, OH
  45764, United States
ROOM: Large meeting room (Nelsonville)
DESCRIPTION:A special meeting of the Athens County Public Libraries Board 
 of Trustees.
URL:https://events.myacpl.org/event/special-board-meeting-47943
END:VEVENT
END:VCALENDAR
