BEGIN:VCALENDAR
VERSION:2.0
PRODID:-//Library Market//iCal Export//EN
BEGIN:VEVENT
SUMMARY:Copy of School&#039;s Out, Summer&#039;s in Celebration
UID:47866
DTSTAMP:20260420T022200Z
DTSTART:20260528T190000Z
DTEND:20260528T210000Z
LOCATION:Glouster Public Library, 20 Toledo St., Glouster, OH 45732, Unite
 d States
ROOM: Meeting room (Glouster)
DESCRIPTION:Because the library&#039;s located in the front yard of Trimbl
 e middle school and high school, you won&#039;t need to go far for good fo
 od, music, and games to kick off a super summer break! 
URL:https://events.myacpl.org/event/copy-schools-out-summers-celebration-4
 7866
END:VEVENT
END:VCALENDAR
