BEGIN:VCALENDAR
VERSION:2.0
PRODID:-//Library Market//iCal Export//EN
BEGIN:VEVENT
SUMMARY:Dungeons and Dragons
UID:47944
DTSTAMP:20260423T002100Z
DTSTART:20260818T200000Z
DTEND:20260818T220000Z
LOCATION:The Plains Public Library, 14 S. Plains Road, The Plains, OH 4578
 0, United States
ROOM: Meeting room (The Plains)
DESCRIPTION:Spend Tuesday afternoons playing this popular fantasy, tableto
 p role-playing game. You do NOT have to be an experienced player -- everyo
 ne is welcome. If you need character sheets or playing pieces please call 
 or stop in to The Plains Public Library.Ages 14 and up *Due to the popula
 rity of this program, please call to check availability before planning to
  attend* 
URL:https://events.myacpl.org/index.php/event/dungeons-and-dragons-47944
END:VEVENT
END:VCALENDAR
