BEGIN:VCALENDAR
VERSION:2.0
PRODID:-//Library Market//iCal Export//EN
BEGIN:VEVENT
SUMMARY:Jw info booth
UID:47913
DTSTAMP:20260422T100200Z
DTSTART:20260423T160000Z
DTEND:20260423T204500Z
LOCATION:Athens Public Library, 30 Home St., Athens, OH 45701, United Stat
 es
ROOM: Large meeting room (Athens)
DESCRIPTION:Community Outreach
URL:https://events.myacpl.org/index.php/event/jw-info-booth-47913
END:VEVENT
END:VCALENDAR
