BEGIN:VCALENDAR
VERSION:2.0
PRODID:-//Library Market//iCal Export//EN
BEGIN:VEVENT
SUMMARY:A Big World: Art by Kevinn Pelham Drake
UID:47901
DTSTAMP:20260420T064600Z
DTSTART:20260502T130000Z
DTEND:20260502T210000Z
LOCATION:Athens Public Library, 30 Home St., Athens, OH 45701, United Stat
 es
ROOM: A Big World: Art by Kevinn Pelham Drake
DESCRIPTION:On exhibit on our Circulation Area Wall from May 2nd thru May 
 29th.“If you want to catch beasts you don’t see every dayYou have to g
 o places quite out-of-the-way. You have to go places no others can get to
 . You have to get cold and you have to get wet, too.”            
                    ~Theodor Seuss Geisel ~ If I Ran the ZooThe I
 nner Child is relentlessly curious. Where mysteries remain mysterious and 
 beauty, a wonder undefined. But you just know!Human experience has many tr
 appings which may lead our spirit to the gray, shapeless world of the auto
 maton, the machine, the heartless.Put your hiking boots on. Go outside. Se
 e the beasts and birds and forests and mountains and flowers and trees. Th
 ey will whisper, &quot;You are not alone. You are One with the Universe.&q
 uot; And you will be reassured...~Kevinn Pelham Drake
URL:https://events.myacpl.org/index.php/event/big-world-art-kevinn-pelham-
 drake-47901
END:VEVENT
END:VCALENDAR
